BEGIN:VCALENDAR
VERSION:2.0
PRODID:-//Library Market//iCal Export//EN
BEGIN:VEVENT
SUMMARY:Library Board of Managers Meeting
UID:718
DTSTAMP:20260421T135500Z
DTSTART:20260424T200000Z
DTEND:20260424T210000Z
LOCATION:159 Main St, East Hampton, NY 11937, United States
ROOM: Bendheim Room
DESCRIPTION:
URL:https://easthampton.librarycalendar.com/event/library-board-managers-m
 eeting-718
END:VEVENT
END:VCALENDAR
