BEGIN:VCALENDAR
VERSION:2.0
PRODID:-//Library Market//iCal Export//EN
BEGIN:VEVENT
SUMMARY:Bubbles-n-Books
UID:3597
DTSTAMP:20260425T154600Z
DTSTART:20260529T143000Z
DTEND:20260529T150000Z
LOCATION:159 Main St, East Hampton, NY 11937, United States
ROOM: Baldwin Room
DESCRIPTION:Join us for stories read in English and Spanish, and a bubble 
 dance party with your little one.
URL:https://easthampton.librarycalendar.com/event/bubbles-n-books-3597
END:VEVENT
END:VCALENDAR
