BEGIN:VCALENDAR
VERSION:2.0
PRODID:-//Library Market//iCal Export//EN
BEGIN:VEVENT
SUMMARY:Foodie Fun: Universal Yums Tasting from Thailand!
UID:2082
DTSTAMP:20260425T135900Z
DTSTART:20260528T200000Z
DTEND:20260528T204500Z
LOCATION:East Hampton Library - Children&#039;s Room, 159 MAIN ST, EAST HA
 MPTON, NY 11937, United States
ROOM: Children&#039;s Room
DESCRIPTION:Taste snacks from a new country each month! Explore global fla
 vors, learn cool facts, and enjoy a fun, tasty adventure with friends.  
URL:https://easthampton.librarycalendar.com/event/universal-yums-tasting-2
 082
END:VEVENT
END:VCALENDAR
